0.1
0
0
-0.1
597742.843502456
4752869.29592634
