0.1
0
0
-0.1
600293.344255131
4752906.15949713
