0.1
0
0
-0.1
599451.600257322
4752315.37236607
