0.1
0
0
-0.1
597759.40295864
4751712.57619943
