0.1
0
0
-0.1
599468.445234918
4751158.65592498
