0.1
0
0
-0.1
597775.960916712
4750555.85796377
