0.1
0
0
-0.1
600301.839617117
4752327.79835892
