0.1
0
0
-0.1
599485.288214208
4750001.93997515
