0.1
0
0
-0.1
598651.452925098
4748833.00338118
