0.1
0
0
-0.1
596958.317419671
4748230.21094124
