0.1
0
0
-0.1
602054.115587413
4748882.9231292
