0.1
0
0
-0.1
599527.367570339
4747110.14300133
