0.1
0
0
-0.1
599535.782267025
4746531.78459229
