0.1
0
0
-0.1
599544.197463898
4745953.42618105
