0.1
0
0
-0.1
601246.237827952
4745978.48874558
