0.1
0
0
-0.1
602097.257462956
4745991.12446536
