0.1
0
0
-0.1
602105.880138358
4745412.7651261
