0.1
0
0
-0.1
602131.732165314
4743677.69509534
