0.1
0
0
-0.1
622697.47687266
4736494.07706868
