0.1
0
0
-0.1
627012.237582718
4733679.74435311
