0.1
0
0
-0.1
626180.802124003
4732507.47061391
