0.1
0
0
-0.1
627033.581111761
4732523.06629319
