0.1
0
0
-0.1
627886.363100194
4732538.87347341
