0.1
0
0
-0.1
631308.533042647
4732024.81354049
