0.1
0
0
-0.1
632161.3900174
4732041.24475484
