0.1
0
0
-0.1
631319.554020948
4731446.48666751
