0.1
0
0
-0.1
632172.483794344
4731462.91810916
