0.1
0
0
-0.1
633025.413565424
4731479.34855316
