0.1
0
0
-0.1
631352.622299066
4729711.51459447
