0.1
0
0
-0.1
633092.399797746
4728009.41394423
