0.1
0
0
-0.1
633945.755525055
4728025.84838951
