0.1
0
0
-0.1
658105.527690786
4753997.76904163
