0.1
0
0
-0.1
658982.580410222
4752860.91519746
