0.1
0
0
-0.1
643572.737763793
4716648.05560087
