0.1
0
0
-0.1
646112.68477928
4717858.47851221
