0.1
0
0
-0.1
644451.644127814
4715509.042844
