0.1
0
0
-0.1
645306.571574003
4715526.94132929
