0.1
0
0
-0.1
602861.267286744
4751787.33838378
