0.1
0
0
-0.1
602878.682178058
4750630.62189924
