0.1
0
0
-0.1
604553.037445421
4752391.60304535
