0.1
0
0
-0.1
607112.814341787
4751852.62686372
