0.1
0
0
-0.1
607963.125916351
4751866.09895123
