0.1
0
0
-0.1
606307.435622614
4748947.55606358
