0.1
0
0
-0.1
607139.992354333
4750117.53941331
