0.1
0
0
-0.1
631209.254611357
4737229.81432828
