0.1
0
0
-0.1
629461.241958547
4739510.92967727
