0.1
0
0
-0.1
630313.174257507
4739526.93621203
