0.1
0
0
-0.1
629493.925309458
4737775.91833712
