0.1
0
0
-0.1
634618.136274499
4737295.75240016
