0.1
0
0
-0.1
632072.581100078
4736667.91464032
